BEGIN:VCALENDAR
VERSION:2.0
PRODID:-//TWKUMC - ECPv6.15.17.1//NONSGML v1.0//EN
CALSCALE:GREGORIAN
METHOD:PUBLISH
X-WR-CALNAME:TWKUMC
X-ORIGINAL-URL:https://twkumc.org/es
X-WR-CALDESC:Eventos para TWKUMC
REFRESH-INTERVAL;VALUE=DURATION:PT1H
X-Robots-Tag:noindex
X-PUBLISHED-TTL:PT1H
BEGIN:VTIMEZONE
TZID:America/Chicago
BEGIN:DAYLIGHT
TZOFFSETFROM:-0600
TZOFFSETTO:-0500
TZNAME:CDT
DTSTART:20240310T080000
END:DAYLIGHT
BEGIN:STANDARD
TZOFFSETFROM:-0500
TZOFFSETTO:-0600
TZNAME:CST
DTSTART:20241103T070000
END:STANDARD
BEGIN:DAYLIGHT
TZOFFSETFROM:-0600
TZOFFSETTO:-0500
TZNAME:CDT
DTSTART:20250309T080000
END:DAYLIGHT
BEGIN:STANDARD
TZOFFSETFROM:-0500
TZOFFSETTO:-0600
TZNAME:CST
DTSTART:20251102T070000
END:STANDARD
BEGIN:DAYLIGHT
TZOFFSETFROM:-0600
TZOFFSETTO:-0500
TZNAME:CDT
DTSTART:20260308T080000
END:DAYLIGHT
BEGIN:STANDARD
TZOFFSETFROM:-0500
TZOFFSETTO:-0600
TZNAME:CST
DTSTART:20261101T070000
END:STANDARD
END:VTIMEZONE
BEGIN:VEVENT
DTSTART;TZID=America/Chicago:20251209T160000
DTEND;TZID=America/Chicago:20251209T170000
DTSTAMP:20260421T163956
CREATED:20251113T210832Z
LAST-MODIFIED:20251113T212803Z
UID:10000735-1765296000-1765299600@twkumc.org
SUMMARY:Cookies and Carols @ Morton Memorial UMC | Monteagle\, TN
DESCRIPTION:Morton Memorial UMC invites you to join us for Cookies and Carols on Tuesday\, December 9th at 4:00pm. Come join us as we sing everyone’s favorite Christmas Carols. We will be singing in the Fellowship Hall.
URL:https://twkumc.org/es/event/cookies-and-carols/
END:VEVENT
END:VCALENDAR