BEGIN:VCALENDAR
VERSION:2.0
PRODID:-//TWKUMC - ECPv6.15.17.1//NONSGML v1.0//EN
CALSCALE:GREGORIAN
METHOD:PUBLISH
X-WR-CALNAME:TWKUMC
X-ORIGINAL-URL:https://twkumc.org/es
X-WR-CALDESC:Eventos para TWKUMC
REFRESH-INTERVAL;VALUE=DURATION:PT1H
X-Robots-Tag:noindex
X-PUBLISHED-TTL:PT1H
BEGIN:VTIMEZONE
TZID:America/Chicago
BEGIN:DAYLIGHT
TZOFFSETFROM:-0600
TZOFFSETTO:-0500
TZNAME:CDT
DTSTART:20250309T080000
END:DAYLIGHT
BEGIN:STANDARD
TZOFFSETFROM:-0500
TZOFFSETTO:-0600
TZNAME:CST
DTSTART:20251102T070000
END:STANDARD
BEGIN:DAYLIGHT
TZOFFSETFROM:-0600
TZOFFSETTO:-0500
TZNAME:CDT
DTSTART:20260308T080000
END:DAYLIGHT
BEGIN:STANDARD
TZOFFSETFROM:-0500
TZOFFSETTO:-0600
TZNAME:CST
DTSTART:20261101T070000
END:STANDARD
BEGIN:DAYLIGHT
TZOFFSETFROM:-0600
TZOFFSETTO:-0500
TZNAME:CDT
DTSTART:20270314T080000
END:DAYLIGHT
BEGIN:STANDARD
TZOFFSETFROM:-0500
TZOFFSETTO:-0600
TZNAME:CST
DTSTART:20271107T070000
END:STANDARD
END:VTIMEZONE
BEGIN:VEVENT
DTSTART;TZID=America/Chicago:20260423T130000
DTEND;TZID=America/Chicago:20260423T150000
DTSTAMP:20260423T013415
CREATED:20251117T173419Z
LAST-MODIFIED:20251117T183851Z
UID:10000744-1776949200-1776956400@twkumc.org
SUMMARY:Harpeth River Clergy Gathering
DESCRIPTION:
URL:https://twkumc.org/es/event/harpeth-river-clergy-gathering-9/
END:VEVENT
BEGIN:VEVENT
DTSTART;TZID=America/Chicago:20260423T160000
DTEND;TZID=America/Chicago:20260423T180000
DTSTAMP:20260423T013415
CREATED:20260415T023700Z
LAST-MODIFIED:20260415T180858Z
UID:10000891-1776960000-1776967200@twkumc.org
SUMMARY:Children's Ministry Meet-Up
DESCRIPTION:Join your fellow Children Ministry Leaders for a fun night of fellowship as we test our throwing skills at the virtual Topgolf Swing Suite at the DoubleTree Hotel in East Memphis. Food will be provided as we play Zombie Dodge Ball\, Break The Plates\, and other fun virtual games. Share laughs\, fun\, good food\, and get to know others like you\, devoted to sharing God’s love with children. \nRSVP here \nTopGolf Swing Suite & Erling Jensen Small Bites The DoubleTree Hotel\n5069 Sanderlin Ave\nMemphis\, Tennessee 38117
URL:https://twkumc.org/es/event/childrens-ministry-meet-up/
END:VEVENT
END:VCALENDAR