BEGIN:VCALENDAR
VERSION:2.0
PRODID:-//TWKUMC - ECPv6.15.17.1//NONSGML v1.0//EN
CALSCALE:GREGORIAN
METHOD:PUBLISH
X-WR-CALNAME:TWKUMC
X-ORIGINAL-URL:https://twkumc.org/es
X-WR-CALDESC:Eventos para TWKUMC
REFRESH-INTERVAL;VALUE=DURATION:PT1H
X-Robots-Tag:noindex
X-PUBLISHED-TTL:PT1H
BEGIN:VTIMEZONE
TZID:America/Chicago
BEGIN:DAYLIGHT
TZOFFSETFROM:-0600
TZOFFSETTO:-0500
TZNAME:CDT
DTSTART:20250309T080000
END:DAYLIGHT
BEGIN:STANDARD
TZOFFSETFROM:-0500
TZOFFSETTO:-0600
TZNAME:CST
DTSTART:20251102T070000
END:STANDARD
BEGIN:DAYLIGHT
TZOFFSETFROM:-0600
TZOFFSETTO:-0500
TZNAME:CDT
DTSTART:20260308T080000
END:DAYLIGHT
BEGIN:STANDARD
TZOFFSETFROM:-0500
TZOFFSETTO:-0600
TZNAME:CST
DTSTART:20261101T070000
END:STANDARD
BEGIN:DAYLIGHT
TZOFFSETFROM:-0600
TZOFFSETTO:-0500
TZNAME:CDT
DTSTART:20270314T080000
END:DAYLIGHT
BEGIN:STANDARD
TZOFFSETFROM:-0500
TZOFFSETTO:-0600
TZNAME:CST
DTSTART:20271107T070000
END:STANDARD
END:VTIMEZONE
BEGIN:VEVENT
DTSTART;VALUE=DATE:20260424
DTEND;VALUE=DATE:20260426
DTSTAMP:20260424T022730
CREATED:20260404T203418Z
LAST-MODIFIED:20260407T160214Z
UID:10000870-1776988800-1777161599@twkumc.org
SUMMARY:Emmanuel UMC Annual Women's Retreat
DESCRIPTION:All women are invited to join us for Emmanuel’s Women’s Retreat Friday\, April 24 through Saturday\, April 25 — a spa-themed weekend designed to help you breathe again\, reset your heart\, and reconnect with God and other women who get it. \nLife moves fast. Expectations pile up. Stress sneaks in quietly. \nThis retreat is your invitation to pause. \nWe are so excited to announce that we are bringing Leigh Young\, author and speaker from Asheville\, North Carolina\, to Emmanuel as our keynote speaker for our retreat. She will share her message\, Blessed Not Stressed. \nYou’ll leave encouraged\, connected\, and reminded that you are deeply loved—and you don’t have to carry stress alone. \nRegistration is open now but will close on Monday\, April 13. \n 
URL:https://twkumc.org/es/event/emmanuel-umc-annual-womens-retreat/
LOCATION:Emmanuel\, 2404 Kirby Road\, Memphis\, TN\, 38119\, United States
END:VEVENT
BEGIN:VEVENT
DTSTART;VALUE=DATE:20260424
DTEND;VALUE=DATE:20260426
DTSTAMP:20260424T022730
CREATED:20260408T181856Z
LAST-MODIFIED:20260408T182219Z
UID:10000881-1776988800-1777161599@twkumc.org
SUMMARY:Cultivating Call\, Imagination & Transformation Laity Gathering
DESCRIPTION:Do you desire deeper discipleship? Would you appreciate accompaniment in discerning God’s call in your life? The Cultivating Call\, Imagination & Transformation resource team of Faith & Innovation invites TWK laity to a time apart for discernment\, listening\, and dreaming. We will gather April 24 & 25 in the Fulton\, KY area. \nQuestions? Contact Amanda Crice at amanda.crice@twkumc.org \n 
URL:https://twkumc.org/es/event/cultivating-call-imagination-transformation-laity-gathering/
END:VEVENT
BEGIN:VEVENT
DTSTART;TZID=America/Chicago:20260424T180000
DTEND;TZID=America/Chicago:20260424T180000
DTSTAMP:20260424T022730
CREATED:20260401T180833Z
LAST-MODIFIED:20260401T180904Z
UID:10000865-1777053600-1777053600@twkumc.org
SUMMARY:Red Bird Choir Performance
DESCRIPTION:The Cardinal Singers from Red Bird Mission School (grades 7–12) are on their spring tour and coming to Tennessee. Through music\, testimony\, and drama\, these students share how God is at work in their lives. \nAll are invited to attend these free performances: \nFriday\, April 24 | 6:00 p.m. – Cookeville FUMC\, Cookeville\nSunday\, April 26 | 10:30 a.m. & 1:00 p.m. – St. Mark’s UMC\, Murfreesboro\nSunday\, April 26 | 6:00 p.m. – Southside Baptist Church\, Gallatin \nCome and experience this meaningful time of worship and witness.
URL:https://twkumc.org/es/event/red-bird-choir-performance/
END:VEVENT
END:VCALENDAR